BEGIN:VCALENDAR
VERSION:2.0
PRODID:-//Tukios.com/
BEGIN:VEVENT
UID:0839d6c5-7543-4b3e-9866-7ecc59b2febf@obituaries.crestwoodmemorialfh.com
DTSTAMP:20260422T062430Z
DTSTART:20260423T180000Z
DTEND:20260423T190000Z
SUMMARY:Funeral Service
DESCRIPTION:
URL:https://obituaries.crestwoodmemorialfh.com/obituaries/mary-countryman
LOCATION: 2209 E Broad St  Gadsden AL 35903
GEO:33.9871448;-85.9700202
END:VEVENT
END:VCALENDAR