BEGIN:VCALENDAR
VERSION:2.0
PRODID:-//Tukios.com/
BEGIN:VEVENT
UID:8bebae3a-0616-4c69-aa4b-c16f0fdf18f9@obituaries.crestwoodmemorialfh.com
DTSTAMP:20260422T062317Z
DTSTART:20260423T160000Z
DTEND:20260423T180000Z
SUMMARY:Visitation
DESCRIPTION:
URL:https://obituaries.crestwoodmemorialfh.com/obituaries/mary-countryman
LOCATION: 2209 E Broad St  Gadsden AL 35903
GEO:33.9871448;-85.9700202
END:VEVENT
END:VCALENDAR